BEGIN:VCALENDAR
VERSION:2.0
PRODID:-//Kailua Town - ECPv6.15.20//NONSGML v1.0//EN
CALSCALE:GREGORIAN
METHOD:PUBLISH
X-WR-CALNAME:Kailua Town
X-ORIGINAL-URL:https://kailuatownhi.com
X-WR-CALDESC:Events for Kailua Town
REFRESH-INTERVAL;VALUE=DURATION:PT1H
X-Robots-Tag:noindex
X-PUBLISHED-TTL:PT1H
BEGIN:VTIMEZONE
TZID:UTC
BEGIN:STANDARD
TZOFFSETFROM:+0000
TZOFFSETTO:+0000
TZNAME:UTC
DTSTART:20240101T000000
END:STANDARD
END:VTIMEZONE
BEGIN:VEVENT
DTSTART;TZID=UTC:20250704T163000
DTEND;TZID=UTC:20250704T223000
DTSTAMP:20260422T150528
CREATED:20250426T031901Z
LAST-MODIFIED:20250702T221054Z
UID:10758-1751646600-1751668200@kailuatownhi.com
SUMMARY:Kailua 4th of July Fireworks
DESCRIPTION:Get ready for a 4th of July tradition that lights up our skies! Alexander & Baldwin is thrilled to once again support our beloved July 4th Fireworks Show at Kailua Beach as a platinum sponsor. We know how special this community event is\, and we’re making it even easier for you and your ‘ohana to join the fun. \nTo help everyone enjoy the festivities\, A&B will be offering a complimentary shuttle service to and from Kailua Beach. Extended parking will also be available at all the neighboring shopping centers in Kailua Town beginning at 4:00 PM. \nOur free shuttle will run from the Kailua Town Parking Garage at Lau Hala Shops every 30 minutes between 4:30 PM and 10:30 PM on Thursday\, July 4th\, making it easy to get to Kailua Beach Center for the fireworks show at 8:00 PM. Please keep in mind that the last shuttle pick-up at Kailua Beach Center is at 10:20 PM sharp\, so please plan accordingly. \nFor all the details you need about the Kailua July 4th Fireworks\, visit kailuafireworks.com. Let’s celebrate together!
URL:https://kailuatownhi.com/event/kailua-4th-of-july-fireworks-2/
ATTACH;FMTTYPE=image/png:https://kailuatownhi.com/wp-content/uploads/2025/04/Fireworks.png
END:VEVENT
BEGIN:VEVENT
DTSTART;TZID=UTC:20250706T140000
DTEND;TZID=UTC:20250706T150000
DTSTAMP:20260422T150528
CREATED:20250513T233029Z
LAST-MODIFIED:20250609T201600Z
UID:10792-1751810400-1751814000@kailuatownhi.com
SUMMARY:I Love Hula - July '25
DESCRIPTION:Join us for a free hula series\, the first Sunday every month in the Kailua parking garage (behind Longs/CVS). July will feature Halau Hula O Na Momi Makamae with kumu Keiko Gonzalez.
URL:https://kailuatownhi.com/event/i-love-hula-july-25/
ATTACH;FMTTYPE=image/jpeg:https://kailuatownhi.com/wp-content/uploads/2025/05/469951158_453895871080124_5283765083434448168_n.jpg
END:VEVENT
BEGIN:VEVENT
DTSTART;TZID=UTC:20250709T173000
DTEND;TZID=UTC:20250709T193000
DTSTAMP:20260422T150528
CREATED:20250612T193312Z
LAST-MODIFIED:20250623T212925Z
UID:10834-1752082200-1752089400@kailuatownhi.com
SUMMARY:Hawaii Symphony Orchestra in the Park
DESCRIPTION:Wednesday\, July 9\, 2025 | 5:30 PM | Kailua District ParkPresented by Alexander & Baldwin | Free Admission \nJoin us for a magical evening of music under the stars as the Hawai‘i Symphony Orchestra returns to Windward O‘ahu for the annual Symphony in the Park! This beloved community tradition brings the joy of live orchestral music to the heart of Kailua — and it’s completely free. \nLed by Maestro Dane Lam\, the concert will feature a beautiful blend of classical and popular pieces\, perfect for the whole ‘ohana. This year’s performance highlights two rising local talents: Iris Yun (harp) and Lei Yao Chang (cello)\, winners of the 2025 Nā Hōkū ʻŌpio “Young Stars” competition and recent graduates of ‘Iolani School. \nBring your lawn chairs\, picnic blankets\, and favorite snacks for a relaxing summer evening filled with world-class music\, community spirit\, and Hawai‘i’s next generation of musical excellence. \nFor more details\, visit myhso.org/summer and follow @hawaiisymphonyorchestra.
URL:https://kailuatownhi.com/event/symphony-in-the-park/
ATTACH;FMTTYPE=image/jpeg:https://kailuatownhi.com/wp-content/uploads/2025/06/SYMPHONY-IN-THE-PARK-INFO-CARD.jpg
END:VEVENT
BEGIN:VEVENT
DTSTART;TZID=UTC:20250712T160000
DTEND;TZID=UTC:20250712T173000
DTSTAMP:20260422T150528
CREATED:20250513T221142Z
LAST-MODIFIED:20250513T221253Z
UID:10768-1752336000-1752341400@kailuatownhi.com
SUMMARY:Kanikapila - Kailua Moon
DESCRIPTION:Join us for our free monthly music series\, the second Saturday every month\, in the Kailua parking garage (behind Longs/CVS). July will feature music by Kailua Moon.
URL:https://kailuatownhi.com/event/kanikapila-kailua-moon-2/
ATTACH;FMTTYPE=image/png:https://kailuatownhi.com/wp-content/uploads/2025/03/Screenshot-2025-05-13-121027.png
END:VEVENT
BEGIN:VEVENT
DTSTART;VALUE=DATE:20250726
DTEND;VALUE=DATE:20250727
DTSTAMP:20260422T150528
CREATED:20250618T013251Z
LAST-MODIFIED:20250716T194007Z
UID:10839-1753488000-1753574399@kailuatownhi.com
SUMMARY:July Hekili St. Sidewalk Sale
DESCRIPTION:Every last Saturday of the month\, come down to Hekili Street for our monthly sidewalk sale for an exciting day of deals\, ‘ono food\, and good vibes. \nThis isn’t just any sale; it’s a celebration of our community. \n✨ Shop & Save Big: Score some great deals and sidewalk steals from your favorite local boutiques and businesses.🛍️ Find Local Treasures: From unique\, handcrafted art to stylish apparel\, cool home goods\, and local gifts – you never know what gems you’ll uncover!🍽️ Grab a Bite: Enjoy a variety of local food and beverage options nearby to keep you fueled while you shop and explore. \nSpend the day exploring Hekili Street and support our amazing small local businesses. We can’t wait to see you there! \nParticipating Merchants: \n\n10 Empanadas – Empanada samples\, available while supplies last\nAloha Kira – Special sale rack; Serving our signature Pogmosas (while supplies last)!\nANDO Cafe – Try our new Espresso Tonic (an espresso shot poured over bright tonic water) in our reusable ANDO clay cup for $10; bring the reusable cup back on your next visit to receive 10% off any ANDO beverage.\nBikinibird – 20% off 1 item $150 or more; Extra 30% off sale items\nGillia – Additional 15% off sale items\nGreat Harvest Bread – Buy 1 loaf of bread and get the 2nd (of equal or lesser value) for 50% off; limit 1 per person\nIsland Bungalow – 70% off lounge sets; $20 sale bins. Plus\, our first summer workshop: Tataki-Zome (flower pounding)\, create bandanas using fresh flowers!\nKailua Crystals – Try our new crystal healing bed\, 15 minutes for $20!\nKono’s Northshore – 15% off your entire order\nLauren Roth Art – Special super sale section; newsletter sign-up giveaways\nMahaloha Burger – Free french fries from 12pm – 2pm! Plus\, $6 beer\, $2 off burgers & hotdogs from 12pm – 3pm\nMokulua Surf Co. – Complimentary food and refreshments (while supplies last)\nSplash! Hawaii – 20% off 1 item $150 or more; Extra 30% off sale items
URL:https://kailuatownhi.com/event/july-hekili-st-sidewalk-sale/
ATTACH;FMTTYPE=image/png:https://kailuatownhi.com/wp-content/uploads/2025/06/Screenshot-2025-06-17-153218.png
END:VEVENT
END:VCALENDAR