BEGIN:VCALENDAR
VERSION:2.0
PRODID:-//Kailua Town - ECPv6.15.20//NONSGML v1.0//EN
CALSCALE:GREGORIAN
METHOD:PUBLISH
X-ORIGINAL-URL:https://kailuatownhi.com
X-WR-CALDESC:Events for Kailua Town
REFRESH-INTERVAL;VALUE=DURATION:PT1H
X-Robots-Tag:noindex
X-PUBLISHED-TTL:PT1H
BEGIN:VTIMEZONE
TZID:UTC
BEGIN:STANDARD
TZOFFSETFROM:+0000
TZOFFSETTO:+0000
TZNAME:UTC
DTSTART:20240101T000000
END:STANDARD
END:VTIMEZONE
BEGIN:VEVENT
DTSTART;TZID=UTC:20251205T170000
DTEND;TZID=UTC:20251205T180000
DTSTAMP:20260424T104033
CREATED:20251014T025111Z
LAST-MODIFIED:20251014T025111Z
UID:11023-1764954000-1764957600@kailuatownhi.com
SUMMARY:Windward Choral Society Sing-A-Long Concert
DESCRIPTION:Windward Choral Society Christmas Sing-A-Long ConcertFriday\, December 5\, 2025 | 5–6pmLau Hala Shops Parking Garage (behind Longs/CVS) \nCelebrate the joy of the season with the Windward Choral Society! Gather your family and friends for a festive evening of holiday favorites\, community spirit\, and sing-along fun in the heart of Kailua. Admission is free—just bring your voice and holiday cheer!
URL:https://kailuatownhi.com/event/windward-choral-society-sing-a-long-concert/
CATEGORIES:Special Events
ATTACH;FMTTYPE=image/jpeg:https://kailuatownhi.com/wp-content/uploads/2025/10/images.jpg
END:VEVENT
BEGIN:VEVENT
DTSTART;TZID=UTC:20251207T140000
DTEND;TZID=UTC:20251207T150000
DTSTAMP:20260424T104033
CREATED:20251008T194508Z
LAST-MODIFIED:20251201T201119Z
UID:11013-1765116000-1765119600@kailuatownhi.com
SUMMARY:I Love Hula - December '25
DESCRIPTION:Join us for a free hula series\, the first Sunday every month from 2-3pm in the Kailua parking garage (behind Longs/CVS). December will feature Halau Mohala ‘Ilima with kumu Mapuana de Silva. \nFeel free to bring your own chair or mat and enjoy this free performance\, sponsored by Alexander & Baldwin.
URL:https://kailuatownhi.com/event/i-love-hula-december-25/
ATTACH;FMTTYPE=image/jpeg:https://kailuatownhi.com/wp-content/uploads/2025/10/481913767_1132600085325052_6531302748130465266_n.jpg
END:VEVENT
BEGIN:VEVENT
DTSTART;TZID=UTC:20251211T160000
DTEND;TZID=UTC:20251211T190000
DTSTAMP:20260424T104033
CREATED:20251021T022723Z
LAST-MODIFIED:20251209T192819Z
UID:11028-1765468800-1765479600@kailuatownhi.com
SUMMARY:Holiday Sip + Shop 2025
DESCRIPTION:Kailua Holiday Sip + Shop\nIt’s the most wonderful time of the year\, and the perfect reason to sip\, shop\, and celebrate all things local. Join us for a festive evening of holiday cheer\, live entertainment\, tasty treats and exclusive offers from our local shops and eateries. \nPresented by Alexander & Baldwin\, the Kailua Holiday Sip + Shop is your invitation to slow down\, enjoy the magic of the season\, and find thoughtful gifts from the small businesses that make Kailua so special. \n\nHoliday Sips + Tasty Treats\nEnjoy complimentary seasonal bites and beverages as you explore and shop around Kailua Town\, featuring: \n\nMini charcuterie boats from Aloha Graze Co.\nFestive mocktails from Bar Coco\nMini tiramisu desserts from GOEN Dining + Bar (while supplies last)\nWarm malasadas from Kalele Eats\nPumpkin crunch samples from Lilikoi Kitchen\nFresh churros from Madres Churros\nSavory pizza & soda samples from Maui Brewing Co.\nMini ice cream scoops from Please Come Again\n\nBe sure to also stop by Out to See for complimentary photos with Santa! \n\nFeatured Musicians:\n\nLovejack (Brian Webb)\nMicah Ganiron\nAnthony Pfluke\nJason Arcilla\nJ.D. Puli\nThe Brewz\n\n\nTicket Info & Details:\nEarly Bird (by 12pm on Dec. 11): $10At the Door (Dec. 11): $15(Card only – no cash; prices exclude processing fees.) \nPurchase Your Tickets Here \nYour $10-$15 donation benefits Shop Small Hawaii\, a local non-profit organization dedicated to supporting small businesses across our islands. \nBonus: The first 100 guests to check in will receive a limited-edition Kailua Town Holiday Tote Bag! \n\n🎁 Win a $500 Kailua Town Gift Package\nBegin your evening by checking in at the Welcome Table in the Lau Hala Shops Lobby (by the UFC Gym entrance) to receive your event passport. As you sip and shop your way through town\, collect stamps from participating merchants for a chance to win a $500 Kailua Town holiday gift package (see Official Giveaway Rules here)! \nPassports are available for guests 18 and over. Return your completed passport to the Welcome Table by 7PM to enter the prize drawing. \n\nCheck out the Event Map & List of Participating Tenants Here\nGet a Preview of the Event Exclusive Promotions Here
URL:https://kailuatownhi.com/event/holiday-sip-shop-2025/
CATEGORIES:Special Events
ATTACH;FMTTYPE=image/png:https://kailuatownhi.com/wp-content/uploads/2025/10/HonMag_Kailua-Holiday_Rev300-x-250-px-1.png
END:VEVENT
BEGIN:VEVENT
DTSTART;TZID=UTC:20251213T160000
DTEND;TZID=UTC:20251213T173000
DTSTAMP:20260424T104033
CREATED:20251011T005544Z
LAST-MODIFIED:20251211T041713Z
UID:11022-1765641600-1765647000@kailuatownhi.com
SUMMARY:Kanikapila - Gregory Juan
DESCRIPTION:Join us every second Saturday of the month from 4 – 5:30pm for our free music series in the Kailua parking garage (behind Longs/CVS). December will feature music by David Kaio. \nGregory Juan is a Native Hawaiian singer-songwriter and musician from Maui who creates award-winning music rooted in Hawaiian culture\, language\, and hula. His heartfelt compositions celebrate the beauty of island life and perpetuate Native Hawaiian traditions through the power of song. \n\n\nFeel free to bring your own chair or mat and enjoy this free performance\, sponsored by Alexander & Baldwin.
URL:https://kailuatownhi.com/event/kanikapila-gregory-juan/
ATTACH;FMTTYPE=image/jpeg:https://kailuatownhi.com/wp-content/uploads/2025/10/Kanikapila-in-Kailua-1.jpg
END:VEVENT
BEGIN:VEVENT
DTSTART;TZID=UTC:20260110T160000
DTEND;TZID=UTC:20260110T173000
DTSTAMP:20260424T104033
CREATED:20251211T211234Z
LAST-MODIFIED:20251211T211234Z
UID:11067-1768060800-1768066200@kailuatownhi.com
SUMMARY:Kanikapila - Nathan Aweau
DESCRIPTION:Join us every second Saturday of the month from 4 – 5:30pm for our free music series in the Kailua parking garage (behind Longs/CVS). January will feature music by Nathan Aweau. \nNathan Aweau is a celebrated Hawaiian musician\, multi-instrumentalist\, and vocalist known for his multiple Nā Hōkū Hanohano Awards\, including several Male Vocalist of the Year honors\, and for his work as a solo artist as well as with groups like HAPA\, The Ali‘i’s\, and with Don Ho. \n\n\nFeel free to bring your own chair or mat and enjoy this free performance\, sponsored by Alexander & Baldwin.
URL:https://kailuatownhi.com/event/kanikapila-nathan-aweau-2/
CATEGORIES:Special Events
ATTACH;FMTTYPE=image/jpeg:https://kailuatownhi.com/wp-content/uploads/2025/12/Document.jpg
END:VEVENT
BEGIN:VEVENT
DTSTART;TZID=UTC:20260111T140000
DTEND;TZID=UTC:20260111T150000
DTSTAMP:20260424T104033
CREATED:20251216T195853Z
LAST-MODIFIED:20260105T184313Z
UID:11069-1768140000-1768143600@kailuatownhi.com
SUMMARY:I Love Hula - January '26
DESCRIPTION:[Postponed to Sunday\, January 11 due to weather conditions.]\nJoin us for a free hula series\, the first Sunday every month from 2-3pm in the Kailua parking garage (behind Longs/CVS). January will feature Na Puakea O Ko’olaupoko with Kumu Hula Pattye Wright. \nFeel free to bring your own chair or mat and enjoy this free performance\, sponsored by Alexander & Baldwin.
URL:https://kailuatownhi.com/event/i-love-hula-january-26/
CATEGORIES:Special Events
ATTACH;FMTTYPE=image/png:https://kailuatownhi.com/wp-content/uploads/2025/12/Screenshot-2026-01-05-084213.png
END:VEVENT
BEGIN:VEVENT
DTSTART;TZID=UTC:20260201T140000
DTEND;TZID=UTC:20260201T150000
DTSTAMP:20260424T104033
CREATED:20251217T195736Z
LAST-MODIFIED:20251230T211437Z
UID:11070-1769954400-1769958000@kailuatownhi.com
SUMMARY:I Love Hula - Feb '26
DESCRIPTION:Join us for a free hula series\, the first Sunday every month from 2-3pm in the Kailua parking garage (behind Longs/CVS). February will feature Halau Ka Pa Hula O Ka Lei Hulu Hiwa with Kumu Hula Jack Po’okela McKeague (St. John Vianney School). \nFeel free to bring your own chair or mat and enjoy this free performance\, sponsored by Alexander & Baldwin.
URL:https://kailuatownhi.com/event/i-love-hula-feb-25/
CATEGORIES:Special Events
ATTACH;FMTTYPE=image/png:https://kailuatownhi.com/wp-content/uploads/2025/12/Screenshot-2025-12-30-111357.png
END:VEVENT
BEGIN:VEVENT
DTSTART;TZID=UTC:20260214T160000
DTEND;TZID=UTC:20260214T173000
DTSTAMP:20260424T104033
CREATED:20251218T213045Z
LAST-MODIFIED:20260206T220727Z
UID:11071-1771084800-1771090200@kailuatownhi.com
SUMMARY:Kanikapila - Ledward Ka'apana
DESCRIPTION:Join us every second Saturday of the month from 4 – 5:30pm for our free music series in the Kailua parking garage (behind Longs/CVS). February will feature music by Ledward Ka’apana. \nLedward “Led” Kaapana is a legendary Hawaiian musician and master of slack key guitar and ukulele\, celebrated for his baritone and falsetto singing and for helping bring traditional Hawaiian music to audiences worldwide. Over a career spanning more than four decades\, he’s earned multiple Nā Hōkū Hanohano and Grammy nominations and was awarded a National Heritage Fellowship\, the U.S. government’s highest honor in folk and traditional arts. \n\n\nFeel free to bring your own chair or mat and enjoy this free performance\, sponsored by Alexander & Baldwin.
URL:https://kailuatownhi.com/event/kanikapila-ledward-kaapana/
CATEGORIES:Special Events
ATTACH;FMTTYPE=image/jpeg:https://kailuatownhi.com/wp-content/uploads/2025/12/Kanikapila-in-Kailua-2.jpg
END:VEVENT
BEGIN:VEVENT
DTSTART;TZID=UTC:20260215T100000
DTEND;TZID=UTC:20260215T123000
DTSTAMP:20260424T104033
CREATED:20260109T001658Z
LAST-MODIFIED:20260212T003221Z
UID:11085-1771149600-1771158600@kailuatownhi.com
SUMMARY:Lunar New Year Celebration: RESCHEDULED
DESCRIPTION:Due to the heavy storm expected this weekend\, our Lunar New Year celebration originally planned for Sunday\, Feb 8\, has been rescheduled to the following Sunday\, Feb 15. Your safety is our top priority\, and we want to ensure a safe and enjoyable experience for everyone.\n\n—\nWelcome the Year of the Horse and join us for a festive Lunar New Year celebration in collaboration with Classic Waves Boutique on Sunday\, February 15! This community event brings people together for special event for an unforgettable cultural experience featuring special lion dance performances by Sing Yung Dragon and Lion Dance Association beginning at 10:30am. \nBring the whole family to enjoy this lively\, community celebration and experience the sights and sounds of Lunar New Year while shopping and dining in Kailua. \nHere’s the tentative schedule that you can expect the lion dancers around Kailua: \n\n10 AM – Lau Hala Shops\n10:05 AM – Kailua Village Shops\n10:25 AM – Hekili St./Merchant’s Row\n10:50 AM – Kailua Town Center III\n11:30 AM – Kailua Town Center\n11:45 AM – Straub Building\n12 PM – Kailua Shopping Center\n\nThis event is free and open to the public\, sponsored by Alexander & Baldwin.
URL:https://kailuatownhi.com/event/lunar-new-year-celebration/
CATEGORIES:Special Events
ATTACH;FMTTYPE=image/png:https://kailuatownhi.com/wp-content/uploads/2026/01/Kailua-Lunar-New-Year-Instagram-Post-45-3.png
END:VEVENT
BEGIN:VEVENT
DTSTART;VALUE=DATE:20260228
DTEND;VALUE=DATE:20260301
DTSTAMP:20260424T104033
CREATED:20260115T211940Z
LAST-MODIFIED:20260226T191726Z
UID:11087-1772236800-1772323199@kailuatownhi.com
SUMMARY:February Hekili St. Sidewalk Sale
DESCRIPTION:Our FIRST Hekili Street Sidewalk Sale is happening on Saturday\, February 28! Explore Kailua’s favorite small businesses and enjoy good vibes and special event-exclusive sales all day long! \n✨ Shop Local\, Shop Small\nEnjoy exclusive discounts and markdowns from the boutiques and businesses you love along Hekili Street. \n\n\n\n🛍️ Discover Something New\nFrom handcrafted art and home décor to locally made gifts\, you’re sure to find that perfect something you didn’t even know you were looking for. \n🍽️ Fuel Your Day\nTake a break with ‘ono grinds\, refreshing drinks\, and sweet treats from nearby eateries and cafés. \nCome for the deals\, stay for the community\, and spend the day supporting the incredible small businesses that make Hekili Street one of Kailua’s most vibrant shopping spots. See you there! \nParticipating Merchants + Promos (list is subject to change at any time): \n\n10 Empanadas – Free empanada samples (while supplies last; must show social media post/flyer/email to redeem)\nAloha Kira – New markdowns on women’s & kids clothing racks\nBikinibird – 30% off select items; bikini BOGO; new locally designed merchandise\nGreat Harvest Bread – Get our new regular coffee for only $2 with the purchase of any pastry or sandwich\nIsland Bungalow – $10/$20/$30 sale bins; 20% off all Kantha items\nKono’s Northshore – FREE LEMONADE FROM 2- 6PM (while supplies last)*; 10% off all food & retail merchandise. Guests who post and tag us on instagram @konoshawaii will be entered to win a $50 gift card (winner to be announced on 3/2)\nLauren Roth Art – Free gift with a purchase of $100 or more; Large sale section\nLotus Cafe – FREE SOUP + FOCACCIA BREAD FROM 12 – 2PM (while supplies last)*; 50% off all barista specials; Free Lotus Cafe t-shirt with every purchase of $20 or more\nMahaloha Burger – Free side of french fries with any burger purchase from 3-5pm\nNalu Health Bar & Cafe – 15% off Nalu branded reusable glass cups w/ the purchase of our new Pink Paradise smoothie\nRevolt Studio – 10% off class packs\, memberships\, and all retail\nSplash! Hawaii – 20% off all Splash! Hawaii branded apparel and hats\nTwin Islands – 15% off entire store\n\n\n*Must show the Hekili St. Sidewalk Sale social media post\, email\, or flyer to redeem.
URL:https://kailuatownhi.com/event/february-hekili-st-sidewalk-sale-2/
CATEGORIES:Special Events and Promotions
ATTACH;FMTTYPE=image/png:https://kailuatownhi.com/wp-content/uploads/2026/01/Screenshot-2026-01-15-111703.png
END:VEVENT
BEGIN:VEVENT
DTSTART;TZID=UTC:20260308T140000
DTEND;TZID=UTC:20260308T150000
DTSTAMP:20260424T104033
CREATED:20260116T234812Z
LAST-MODIFIED:20260301T203604Z
UID:11107-1772978400-1772982000@kailuatownhi.com
SUMMARY:I Love Hula - March '26
DESCRIPTION:[Postponed to Sunday\, March 8 due to weather conditions.]\nJoin us for a free hula series\, the first Sunday every month from 2-3pm in the Kailua parking garage (behind Longs/CVS). March will feature Halau Hula O Na Momi Makami with Kumu Hula Kiele Gonzalez. \nFeel free to bring your own chair or mat and enjoy this free performance\, sponsored by Alexander & Baldwin.
URL:https://kailuatownhi.com/event/i-love-hula-march-26/
ATTACH;FMTTYPE=image/jpeg:https://kailuatownhi.com/wp-content/uploads/2026/01/469951158_453895871080124_5283765083434448168_n.jpg
END:VEVENT
BEGIN:VEVENT
DTSTART;TZID=UTC:20260328T160000
DTEND;TZID=UTC:20260328T173000
DTSTAMP:20260424T104033
CREATED:20260127T193228Z
LAST-MODIFIED:20260318T194929Z
UID:11109-1774713600-1774719000@kailuatownhi.com
SUMMARY:Kanikapila - Randy Lorenzo
DESCRIPTION:[Postponed to Saturday\, March 28 due to weather conditions.]\nJoin us every second Saturday of the month from 4 – 5:30pm for our free music series in the Kailua parking garage (behind Longs/CVS). March will feature music by Randy Lorenzo. \nRandy Lorenzo is a Hawaiʻi-based singer-songwriter known for his smooth vocals and heartfelt island-style music. A longtime member of the group Kapena\, he has helped shape the local music scene with a blend of reggae\, R&B\, and contemporary Hawaiian influences. His work continues to resonate with audiences through both live performances and recordings rooted in island culture. \n\n\nFeel free to bring your own chair or mat and enjoy this free performance\, sponsored by Alexander & Baldwin.
URL:https://kailuatownhi.com/event/kanikapila-bryan-tolentino-herb-ohta/
CATEGORIES:Special Events
ATTACH;FMTTYPE=image/jpeg:https://kailuatownhi.com/wp-content/uploads/2026/01/randy-lorenzo.jpg
END:VEVENT
BEGIN:VEVENT
DTSTART;TZID=UTC:20260402T160000
DTEND;TZID=UTC:20260402T190000
DTSTAMP:20260424T104033
CREATED:20260226T200056Z
LAST-MODIFIED:20260324T002524Z
UID:11215-1775145600-1775156400@kailuatownhi.com
SUMMARY:Blooms & Bubbly: Spring Sip + Shop
DESCRIPTION:Blooms & Bubbly: Spring Sip + Shop🌸🥂\nSip\, shop\, and celebrate spring in full bloom at Kailua Town’s Blooms & Bubbly! Join us for a fresh and floral-inspired evening filled with sparkling sips\, sweet treats\, live entertainment\, and exclusive offers from more than 30 of your favorite local boutiques and eateries. \nPresented by Alexander & Baldwin\, Blooms & Bubbly is your invitation to step into spring\, support small businesses\, and enjoy a fun afternoon in the heart of Kailua. From fashion and beauty to food and gifts\, discover the local businesses that help our community blossom. \n\nHow It Works\nStart by checking in at the Welcome Table outside the Lau Hala Shops lobby (near UFC Gym) to get all the event details — then let the sipping\, shopping\, and strolling begin! \nBe one of the first 150 people to spend a subtotal of $100 or more exclusively at the participating Kailua Town merchants of the Blooms & Bubbly event during event hours only\, and bring your same-day receipt(s) to the Welcome Table at the Lau Hala Shops lobby by 7:00pm to receive a voucher for a FREE build-your-own bouquet (value of $20) from Island Bloom Florals. \nSee below for official details and rules. \n\nSips + Sweet Treats\nEnjoy complimentary bites and refreshing beverages as you explore and shop throughout Kailua Town\, featuring: \n\nSavory empanada samples from 10 Empanadas\nCake pops & macarons from A Cake Life\nMini charcuterie boats from Aloha Graze Co.\nBubbly mocktails from Bar Coco\nOrange Dream & White Gummi smoothie samples from Jamba\nGelato & sorbet scoops from Kalele Eats\nSpecial mocktails from Lilikoi Kitchen\nRefreshing lilikoi lemonade & Arnold Palmer beverages from Lotus Cafe\nFresh popcorn from Ono Kettle Pop\n\n\nFeatured Musicians:\n\nLovejack (Brian Webb)\nClara Stegall\nAnthony Pfluke\nJason Arcilla\nJ.D. Puli\nThe Brewz\n\n\nTicket Information\nEarly Bird tickets purchased online (by 12pm on April 2): $10 ($12.51 including fees)Tickets purchased online at the Door (after 12pm on April 2): $15 ($17.51 including fees) \n(Card only — no cash. All sales final.) \nPurchase Your Tickets Here\nYour donation benefits Shop Small Hawaii\, a community initiative powered by the Patsy T. Mink Center for Business & Leadership a program under YWCA Oʻahu. Their initiative is committed to supporting local entrepreneurs and small businesses. \nCheck out the Event Map & List of Participating Tenants Here\nGet a Preview of the Event Exclusive Promotions Here\n\nOffer Details and Rules: \n\nValid on receipts from only the Blooms & Bubbly participating merchants at Alexander & Baldwin’s Kailua Town shopping centers.\nWhile supplies last; gifts are limited!\nReceipts exclude tax and gratuity and may only be redeemed once.\nOne (1) redemption per person.\nMust present original printed or digital receipts; credit card receipts must include the original store receipt.\nCombined receipts must total $100 or more.\nReceipts must be dated and redeemed during the event only: Thursday\, April 2 from 4-7pm.\nMust be 18 years or older with valid photo ID to redeem.\nAlexander & Baldwin employees and immediate family members are not eligible.\nThe gift item has no cash value\, is not returnable or exchangeable\, no exceptions.\n\nAlexander & Baldwin and Kailua Town reserve the right to make any changes at any time for any reason.
URL:https://kailuatownhi.com/event/blooms-bubbly-spring-sip-shop/
CATEGORIES:Special Events and Promotions
ATTACH;FMTTYPE=image/png:https://kailuatownhi.com/wp-content/uploads/2026/02/Eventbrite_2160x1080.png
END:VEVENT
BEGIN:VEVENT
DTSTART;TZID=UTC:20260411T160000
DTEND;TZID=UTC:20260411T173000
DTSTAMP:20260424T104033
CREATED:20260206T011339Z
LAST-MODIFIED:20260410T200441Z
UID:11161-1775923200-1775928600@kailuatownhi.com
SUMMARY:CANCELED: Kanikapila - Robi & Friends
DESCRIPTION:Update as of 4/10/2026: Kanikapila is canceled this Saturday due to the storm; please stay tuned for a potential rescheduled event date. \nJoin us every second Saturday of the month from 4 – 5:30pm for our free music series in the Kailua parking garage (behind Longs/CVS). April will feature music by Robi Kahakalau & Friends. \nRobi Kahakalau & Friends bring together award-winning Hawaiian musicians for an engaging performance that blends contemporary sounds with deep roots in Hawaiian music. Led by Nā Hōkū Hanohano–winning artist Robi Kahakalau\, the group is known for their rich harmonies\, joyful energy\, and heartfelt connection to Hawaiʻi’s culture and community. \n\n\nFeel free to bring your own chair or mat and enjoy this free performance\, sponsored by Alexander & Baldwin.
URL:https://kailuatownhi.com/event/kanikapila-robi-friends/
CATEGORIES:Special Events
ATTACH;FMTTYPE=image/jpeg:https://kailuatownhi.com/wp-content/uploads/2026/02/KIK-robi-kahakalau-.jpg
END:VEVENT
BEGIN:VEVENT
DTSTART;TZID=UTC:20260419T140000
DTEND;TZID=UTC:20260419T150000
DTSTAMP:20260424T104033
CREATED:20260203T200011Z
LAST-MODIFIED:20260416T021428Z
UID:11114-1776607200-1776610800@kailuatownhi.com
SUMMARY:RESCHEDULED: I Love Hula - April '26
DESCRIPTION:Update as of 4/15/2026: I Love Hula has been rescheduled to THIS Sunday\, 4/19. We hope to see you there! \nJoin us for a free hula series every month from 2-3pm in the Kailua parking garage (behind Longs/CVS). April will feature Halau Ha’a Hula ‘O Kekau’ilani with Kumu Hula Charlani Kalama. \nFeel free to bring your own chair or mat and enjoy this free performance\, sponsored by Alexander & Baldwin.
URL:https://kailuatownhi.com/event/i-love-hula-april-26/
CATEGORIES:Special Events
ATTACH;FMTTYPE=image/jpeg:https://kailuatownhi.com/wp-content/uploads/2022/04/AB-KAILUA-00196-scaled-e1652736078406.jpg
END:VEVENT
BEGIN:VEVENT
DTSTART;TZID=UTC:20260426T110000
DTEND;TZID=UTC:20260426T160000
DTSTAMP:20260424T104033
CREATED:20260327T192346Z
LAST-MODIFIED:20260414T193611Z
UID:11242-1777201200-1777219200@kailuatownhi.com
SUMMARY:I Love Kailua Town Party 2026
DESCRIPTION:Since 1993\, the Lani-Kailua Outdoor Circle has proudly hosted the annual “I Love Kailua” Town Party in the heart of Kailua. Join us on Sunday\, April 26 from 11am – 4pm for this beloved\, all-day street festival that brings the community together with a vibrant mix of Windward artisans\, local makers\, nonprofit organizations\, plant sales\, ‘ono food from local vendors\, and live entertainment for all ages. \nAs LKOC’s signature fundraiser\, the event plays a vital role in supporting ongoing beautification efforts and community projects throughout Kailua\, helping to keep the town green\, vibrant\, and thriving for generations to come. \nFor more information\, please visit: Town Party – Lani-Kailua Outdoor Circle
URL:https://kailuatownhi.com/event/i-love-kailua-town-party-2026/
CATEGORIES:Special Events
ATTACH;FMTTYPE=image/jpeg:https://kailuatownhi.com/wp-content/uploads/2026/03/IMG_5814.jpeg
END:VEVENT
BEGIN:VEVENT
DTSTART;TZID=UTC:20260503T140000
DTEND;TZID=UTC:20260503T150000
DTSTAMP:20260424T104033
CREATED:20260225T003129Z
LAST-MODIFIED:20260421T235659Z
UID:11213-1777816800-1777820400@kailuatownhi.com
SUMMARY:I Love Hula - May '26
DESCRIPTION:Join us for a free hula series\, the first Sunday every month from 2-3pm in the Kailua parking garage (behind Longs/CVS). May will feature Halau Ka Pa Hula O Ka Lei Hulu Hiwa (Kalaheo High School) with Kumu Hula Jack McKeague. \nFeel free to bring your own chair or mat and enjoy this free performance\, sponsored by Alexander & Baldwin.
URL:https://kailuatownhi.com/event/i-love-hula-may-26/
CATEGORIES:Special Events
ATTACH;FMTTYPE=image/jpeg:https://kailuatownhi.com/wp-content/uploads/2026/02/DSC05951-scaled.jpg
END:VEVENT
BEGIN:VEVENT
DTSTART;TZID=UTC:20260509T160000
DTEND;TZID=UTC:20260509T173000
DTSTAMP:20260424T104033
CREATED:20260330T222302Z
LAST-MODIFIED:20260330T222302Z
UID:11245-1778342400-1778347800@kailuatownhi.com
SUMMARY:Kanikapila - Eric Lee + "Da 'Anakalaz"
DESCRIPTION:Join us every second Saturday of the month from 4 – 5:30pm for our free music series in the Kailua parking garage (behind Longs/CVS). May will feature Eric Lee + “Da ‘Anakalaz”. \nEric Lee is a Hawaiʻi-born singer-songwriter and multi-instrumentalist with a career spanning over three decades\, known for his work as both a solo artist and member of groups like Nā Kama and Da ‘Anakalaz. His recordings and compositions have earned multiple Nā Hōkū Hanohano Awards\, along with numerous nominations across categories throughout his career. \n\n\nFeel free to bring your own chair or mat and enjoy this free performance\, sponsored by Alexander & Baldwin.
URL:https://kailuatownhi.com/event/kanikapila-eric-lee-da-anakalaz/
CATEGORIES:Special Events
ATTACH;FMTTYPE=image/jpeg:https://kailuatownhi.com/wp-content/uploads/2026/03/eric-lee-promo-flyer.jpg
END:VEVENT
BEGIN:VEVENT
DTSTART;VALUE=DATE:20260530
DTEND;VALUE=DATE:20260531
DTSTAMP:20260424T104033
CREATED:20260423T214830Z
LAST-MODIFIED:20260423T215416Z
UID:11268-1780099200-1780185599@kailuatownhi.com
SUMMARY:May Hekili St. Sidewalk Sale
DESCRIPTION:The Hekili Street Sidewalk Sale is back!Spend the day shopping local favorites\, scoring exclusive deals\, and enjoying all the good vibes Kailua has to offer. \n✨ Sidewalk specials + in-store promos🛍️ Unique local finds🍽️ Food\, drinks\, and treats nearby \nIt’s the perfect excuse to get out\, explore\, and show some love to our local businesses. \nMore details to come.
URL:https://kailuatownhi.com/event/may-hekili-st-sidewalk-sale/
CATEGORIES:Special Events and Promotions
ATTACH;FMTTYPE=image/png:https://kailuatownhi.com/wp-content/uploads/2026/04/Screenshot-2026-04-23-115330.png
END:VEVENT
BEGIN:VEVENT
DTSTART;TZID=UTC:20260607T140000
DTEND;TZID=UTC:20260607T140000
DTSTAMP:20260424T104033
CREATED:20260422T000034Z
LAST-MODIFIED:20260422T000034Z
UID:11264-1780840800-1780840800@kailuatownhi.com
SUMMARY:I Love Hula - June '26
DESCRIPTION:Join us for a free hula series\, the first Sunday every month from 2-3pm in the Kailua parking garage (behind Longs/CVS). June will feature Halau Na Pua Lei O Likolehua. \nFeel free to bring your own chair or mat and enjoy this free performance\, sponsored by Alexander & Baldwin.
URL:https://kailuatownhi.com/event/i-love-hula-june-26/
CATEGORIES:Special Events
ATTACH;FMTTYPE=image/jpeg:https://kailuatownhi.com/wp-content/uploads/2026/04/Na-Pualei-696x450-1.jpg
END:VEVENT
BEGIN:VEVENT
DTSTART;TZID=UTC:20260613T160000
DTEND;TZID=UTC:20260613T173000
DTSTAMP:20260424T104033
CREATED:20260326T204334Z
LAST-MODIFIED:20260330T222346Z
UID:11240-1781366400-1781371800@kailuatownhi.com
SUMMARY:Kanikapila - JD Puli
DESCRIPTION:Join us every second Saturday of the month from 4 – 5:30pm for our free music series in the Kailua parking garage (behind Longs/CVS). June will feature JD Puli. \nJD Puli is a Hawaii-born\, multi-instrumentalist and vocalist known for his proficiency in traditional Hawaiian styles\, including slack key guitar and falsetto singing\, and for sharing his music widely both in Hawaiʻi and the Bay Area. He was recognized with the Hawaii Music Awards “New Artist of the Year” honor in 2007 for his debut album Ho‘omaka. \n\n\nFeel free to bring your own chair or mat and enjoy this free performance\, sponsored by Alexander & Baldwin.
URL:https://kailuatownhi.com/event/kanikapila-jd-puli/
ATTACH;FMTTYPE=image/jpeg:https://kailuatownhi.com/wp-content/uploads/2026/03/kik-j-d-puli-flyer.jpg
END:VEVENT
END:VCALENDAR